BEGIN:VCALENDAR
VERSION:2.0
PRODID:-//eventon.com NONSGML v1.0//EN
CALSCALE:GREGORIAN
METHOD:PUBLISH
BEGIN:VEVENT
UID:69e79a4ee0946
DTSTAMP:20260421T153958Z
DTSTART:20231012T190000Z
DTEND:20231012T200000Z
LOCATION:Student Union 4505 S. Maryland Pkwy. Las Vegas\,  NV 89154
SUMMARY:BOXABL Las Vegas Warehouse Tour
DESCRIPTION:Join the UNLV Real Estate &amp; Business Society on a warehouse
  tour of BOXABL\nhttps://liedcenter.unlv.edu/events/boxabl-las-vegas-wareho
 use-tour/
URL:https://liedcenter.unlv.edu/events/boxabl-las-vegas-warehouse-tour/
END:VEVENT
END:VCALENDAR